BEGIN:VCALENDAR
VERSION:2.0
PRODID:-//Tukios.com/
BEGIN:VEVENT
UID:47248a97-f14d-42b6-9f68-0a4490920cd9@www.coxrowleyfuneralhome.com
DTSTAMP:20260422T015723Z
DTSTART:20260424T180000Z
DTEND:20260424T190000Z
SUMMARY:Visitation
DESCRIPTION:
URL:https://www.coxrowleyfuneralhome.com/obituaries/ben-g-steinman
LOCATION:Heartland Funeral Home 303 Early Blvd.  Early TX 76802
GEO:31.7351631;-98.9619773
END:VEVENT
END:VCALENDAR