BEGIN:VCALENDAR
VERSION:2.0
PRODID:-//Tukios.com/
BEGIN:VEVENT
UID:bee6508d-6c61-4ea1-989e-88ec36c8460d@www.coxrowleyfuneralhome.com
DTSTAMP:20260422T015546Z
DTSTART:20260423T150000Z
DTEND:20260423T160000Z
SUMMARY:Funeral Service
DESCRIPTION:
URL:https://www.coxrowleyfuneralhome.com/obituaries/ben-g-steinman
LOCATION:Cox-Rowley Funeral Home Chapel 4180 Canyon Drive  Amarillo TX 
	79109
GEO:35.1893441;-101.8381062
END:VEVENT
END:VCALENDAR