BEGIN:VCALENDAR
VERSION:2.0
PRODID:-//Tukios.com/
BEGIN:VEVENT
UID:46bf664a-ce03-41d8-91b4-b417e68b278a@www.coxrowleyfuneralhome.com
DTSTAMP:20260425T180445Z
DTSTART:20260426T190000Z
DTEND:20260426T210000Z
SUMMARY:Visitation
DESCRIPTION:
URL:https://www.coxrowleyfuneralhome.com/obituaries/chuck-jones-2026
LOCATION:Cox-Rowley Funeral Home 4180 Canyon Drive  Amarillo TX 79109
GEO:35.1893441;-101.8381062
END:VEVENT
END:VCALENDAR