BEGIN:VCALENDAR
VERSION:2.0
PRODID:-//Tukios.com/
BEGIN:VEVENT
UID:9bdb0151-92bd-46c6-aaff-94e19dd311a3@www.coxrowleyfuneralhome.com
DTSTAMP:20260425T180316Z
DTSTART:20260427T213000Z
DTEND:20260427T223000Z
SUMMARY:Celebration of Life
DESCRIPTION:
URL:https://www.coxrowleyfuneralhome.com/obituaries/chuck-jones-2026
LOCATION:Redeemer Christian Church 3701 Soncy Road  Amarillo TX 79119
GEO:35.1671985;-101.9372365
END:VEVENT
END:VCALENDAR