BEGIN:VCALENDAR
VERSION:2.0
PRODID:-//Tukios.com/
BEGIN:VEVENT
UID:84469580-8ee0-4593-b223-c7fa3cf30363@www.coxrowleyfuneralhome.com
DTSTAMP:20260426T022324Z
DTSTART:20260428T180000Z
DTEND:20260428T190000Z
SUMMARY:Celebration of Life
DESCRIPTION:
URL:https://www.coxrowleyfuneralhome.com/obituaries/linda-young
LOCATION:Temple Baptist Church 3208 South Van Buren Street  Amarillo TX 
	79109
GEO:35.179743;-101.8452938
END:VEVENT
END:VCALENDAR