BEGIN:VCALENDAR
VERSION:2.0
PRODID:-//Tukios.com/
BEGIN:VEVENT
UID:4c8fd288-c525-4516-a83a-b4773106afa5@www.coxrowleyfuneralhome.com
DTSTAMP:20260426T022518Z
DTSTART:20260427T230000Z
DTEND:20260428T010000Z
SUMMARY:Visitation
DESCRIPTION:
URL:https://www.coxrowleyfuneralhome.com/obituaries/linda-young
LOCATION: 4180 Canyon Dr  Amarillo TX 79109
GEO:35.1724607;-101.8638756
END:VEVENT
END:VCALENDAR