BEGIN:VCALENDAR
VERSION:2.0
PRODID:-//Tukios.com/
BEGIN:VEVENT
UID:da4e7c2f-3ed2-4c8e-888f-8fee237a5911@www.coxrowleyfuneralhome.com
DTSTAMP:20260424T201814Z
DTSTART:20260501T190000Z
DTEND:20260501T200000Z
SUMMARY:Memorial Service
DESCRIPTION:
URL:https://www.coxrowleyfuneralhome.com/obituaries/penny-goessling
LOCATION:The Continental at Park Central - Parlor 1300 S Jackson St  
	Amarillo TX 79101
GEO:35.2007258;-101.8441803
END:VEVENT
END:VCALENDAR